BEGIN:VCALENDAR
VERSION:2.0
PRODID:-//wp-events-plugin.com//7.2.3.1//EN
TZID:Europe/Paris
X-WR-TIMEZONE:Europe/Paris
BEGIN:VEVENT
UID:20@groupevocalmosaique.org
DTSTART;TZID=Europe/Paris:20150227T203000
DTEND;TZID=Europe/Paris:20150227T220000
DTSTAMP:20150222T145322Z
URL:https://www.groupevocalmosaique.org/evenement/spectacle-a-la-salle-ren
 oir/
SUMMARY:Spectacle Ven. 27/2 à 20h30
DESCRIPTION:
LOCATION:Théâtre Jean Renoir\, 12 Avenue Auguste Renoir\, Cran-Gevrier\, 
 74960\, Haute-Savoie\, France
GEO:45.90242509999999;6.095975100000032
X-APPLE-STRUCTURED-LOCATION;VALUE=URI;X-ADDRESS=12 Avenue Auguste Renoir\, 
 Cran-Gevrier\, 74960\, Haute-Savoie\, France;X-APPLE-RADIUS=100;X-TITLE=Th
 éâtre Jean Renoir:geo:45.90242509999999,6.095975100000032
END:VEVENT
BEGIN:VTIMEZONE
TZID:Europe/Paris
X-LIC-LOCATION:Europe/Paris
BEGIN:STANDARD
DTSTART:20141026T020000
TZOFFSETFROM:+0200
TZOFFSETTO:+0100
TZNAME:CET
END:STANDARD
END:VTIMEZONE
END:VCALENDAR