BEGIN:VCALENDAR
VERSION:2.0
PRODID:-//wp-events-plugin.com//7.2.3.1//EN
TZID:Europe/Paris
X-WR-TIMEZONE:Europe/Paris
BEGIN:VEVENT
UID:46@groupevocalmosaique.org
DTSTART;TZID=Europe/Paris:20181013T200000
DTEND;TZID=Europe/Paris:20181013T213000
DTSTAMP:20180611T084934Z
URL:https://www.groupevocalmosaique.org/evenement/concert-a-moye/
SUMMARY:Concert à MOYE
DESCRIPTION:Dans le cadre de "La Semaine Bleue"\, semaine nationale des per
 sonnes âgées\,\n\nConcert du Groupe Vocal MOSAÏQUE Salle d'Animation de
  MOYE
LOCATION:Salle d'Animation\, Chef lieu\, MOYE\, 74150\, France
GEO:45.872166;5.915206000000012
X-APPLE-STRUCTURED-LOCATION;VALUE=URI;X-ADDRESS=Chef lieu\, MOYE\, 74150\, 
 France;X-APPLE-RADIUS=100;X-TITLE=Salle d'Animation:geo:45.872166,5.915206
 000000012
END:VEVENT
BEGIN:VTIMEZONE
TZID:Europe/Paris
X-LIC-LOCATION:Europe/Paris
BEGIN:DAYLIGHT
DTSTART:20180325T030000
TZOFFSETFROM:+0100
TZOFFSETTO:+0200
TZNAME:CEST
END:DAYLIGHT
END:VTIMEZONE
END:VCALENDAR